BEGIN:VCALENDAR
VERSION:2.0
PRODID:-//Eventsity//NONSGML v1.0//EN
CALSCALE:GREGORIAN
METHOD:PUBLISH
X-WR-CALNAME:Smith's Alternative
X-ORIGINAL-URL:http://www.smithsalternative.com
X-WR-CALDESC:Events for Smith's Alternative
BEGIN:VEVENT
DTSTART;VALUE=DATE-TIME:
DTEND;VALUE=DATE-TIME:20240604T080000
DTSTAMP:20260422T064502
CREATED:20240516T184948
LAST-MODIFIED:20240516T204909
UID:admin@eventsity.com
SUMMARY:A World of Rhythm Workshop
DESCRIPTION:
URL:http://www.smithsalternative.com/events/a-world-of-rhythm-workshop-86256
LOCATION:
ATTACH;FMTTYPE=image/jpeg:http://www.smithsalternative.com/infomaxim/assets/images/66/86256/f__30644_fer.jpg
END:VEVENT
END:VCALENDAR