BEGIN:VCALENDAR
VERSION:2.0
PRODID:-//Eventsity//NONSGML v1.0//EN
CALSCALE:GREGORIAN
METHOD:PUBLISH
X-WR-CALNAME:Smith's Alternative
X-ORIGINAL-URL:http://www.smithsalternative.com
X-WR-CALDESC:Events for Smith's Alternative
BEGIN:VEVENT
DTSTART;VALUE=DATE-TIME:
DTEND;VALUE=DATE-TIME:20240604T110000
DTSTAMP:20260422T064502
CREATED:20240516T175055
LAST-MODIFIED:20240516T204806
UID:admin@eventsity.com
SUMMARY:The Whistleblowers
DESCRIPTION:A collective of fine improvisers/composers from Melbourne, Canberra and Sydney,...
URL:http://www.smithsalternative.com/events/the-whistleblowers-86250
LOCATION:
ATTACH;FMTTYPE=image/jpeg:http://www.smithsalternative.com/infomaxim/assets/images/66/86250/f__30642_whist.jpg
END:VEVENT
END:VCALENDAR