BEGIN:VCALENDAR
VERSION:2.0
PRODID:-//Eventsity//NONSGML v1.0//EN
CALSCALE:GREGORIAN
METHOD:PUBLISH
X-WR-CALNAME:Smith's Alternative
X-ORIGINAL-URL:http://www.smithsalternative.com
X-WR-CALDESC:Events for Smith's Alternative
BEGIN:VEVENT
DTSTART;VALUE=DATE-TIME:
DTEND;VALUE=DATE-TIME:20240727T100000
DTSTAMP:20260422T075536
CREATED:20240428T211020
LAST-MODIFIED:20240428T212436
UID:admin@eventsity.com
SUMMARY:Leo Amadeus: These Past Few Years Album Launch
DESCRIPTION:
URL:http://www.smithsalternative.com/events/leo-amadeus-these-past-few-years-album-launch-86058
LOCATION:
ATTACH;FMTTYPE=image/jpeg:http://www.smithsalternative.com/infomaxim/assets/images/66/86058/f__30598_leo_amadeus_album_launch_program_draft_3.jpg
END:VEVENT
END:VCALENDAR