BEGIN:VCALENDAR
VERSION:2.0
PRODID:-//Eventsity//NONSGML v1.0//EN
CALSCALE:GREGORIAN
METHOD:PUBLISH
X-WR-CALNAME:Smith's Alternative
X-ORIGINAL-URL:http://www.smithsalternative.com
X-WR-CALDESC:Events for Smith's Alternative
BEGIN:VEVENT
DTSTART;VALUE=DATE-TIME:
DTEND;VALUE=DATE-TIME:20240607T103000
DTSTAMP:20260422T041512
CREATED:20240418T231141
LAST-MODIFIED:20240418T231528
UID:admin@eventsity.com
SUMMARY:Shad & Pete Save the World
DESCRIPTION:We all have problems - and who better to solve yours than two unqualified...
URL:http://www.smithsalternative.com/events/shad-pete-save-the-world-85907
LOCATION:
ATTACH;FMTTYPE=image/jpeg:http://www.smithsalternative.com/infomaxim/assets/images/66/85907/f__30571_shad.jpg
END:VEVENT
END:VCALENDAR