BEGIN:VCALENDAR
VERSION:2.0
PRODID:-//Eventsity//NONSGML v1.0//EN
CALSCALE:GREGORIAN
METHOD:PUBLISH
X-WR-CALNAME:Smith's Alternative
X-ORIGINAL-URL:http://www.smithsalternative.com
X-WR-CALDESC:Events for Smith's Alternative
BEGIN:VEVENT
DTSTART;VALUE=DATE-TIME:
DTEND;VALUE=DATE-TIME:20240622T100000
DTSTAMP:20260425T020837
CREATED:20240417T221136
LAST-MODIFIED:20240529T160717
UID:admin@eventsity.com
SUMMARY:Ben Drysdale
DESCRIPTION:Award-winning Canberra Indie Folk Artist Ben Drysdale Announces Highly Anticipated...
URL:http://www.smithsalternative.com/events/ben-drysdale-85885
LOCATION:
ATTACH;FMTTYPE=image/jpeg:http://www.smithsalternative.com/infomaxim/assets/images/66/85885/f__30566_listen_now.jpg
END:VEVENT
END:VCALENDAR