BEGIN:VCALENDAR
VERSION:2.0
PRODID:-//Eventsity//NONSGML v1.0//EN
CALSCALE:GREGORIAN
METHOD:PUBLISH
X-WR-CALNAME:Smith's Alternative
X-ORIGINAL-URL:http://www.smithsalternative.com
X-WR-CALDESC:Events for Smith's Alternative
BEGIN:VEVENT
DTSTART;VALUE=DATE-TIME:
DTEND;VALUE=DATE-TIME:20240601T070000
DTSTAMP:20260422T064158
CREATED:20240329T221730
LAST-MODIFIED:20240330T224744
UID:admin@eventsity.com
SUMMARY:Ecopella
DESCRIPTION:Benefit Concert for the Environmental Defenders Office
URL:http://www.smithsalternative.com/events/ecopella-85623
LOCATION:
ATTACH;FMTTYPE=image/jpeg:http://www.smithsalternative.com/infomaxim/assets/images/66/85623/f__30499_ecop.jpg
END:VEVENT
END:VCALENDAR