BEGIN:VCALENDAR
VERSION:2.0
PRODID:-//Eventsity//NONSGML v1.0//EN
CALSCALE:GREGORIAN
METHOD:PUBLISH
X-WR-CALNAME:Smith's Alternative
X-ORIGINAL-URL:http://www.smithsalternative.com
X-WR-CALDESC:Events for Smith's Alternative
BEGIN:VEVENT
DTSTART;VALUE=DATE-TIME:
DTEND;VALUE=DATE-TIME:20240427T133000
DTSTAMP:20260423T030418
CREATED:20240327T093754
LAST-MODIFIED:20240327T100349
UID:admin@eventsity.com
SUMMARY:OFF THE TOP NO WRITTENS
DESCRIPTION:NewBorn Noise presents OFF THE TOP NO WRITTENS FREESTYLE RAP COMPETITION...
URL:http://www.smithsalternative.com/events/off-the-top-no-writtens-85538
LOCATION:
ATTACH;FMTTYPE=image/jpeg:http://www.smithsalternative.com/infomaxim/assets/images/66/85538/f__30478_offtop.jpg
END:VEVENT
END:VCALENDAR