BEGIN:VCALENDAR
VERSION:2.0
PRODID:-//Eventsity//NONSGML v1.0//EN
CALSCALE:GREGORIAN
METHOD:PUBLISH
X-WR-CALNAME:Smith's Alternative
X-ORIGINAL-URL:http://www.smithsalternative.com
X-WR-CALDESC:Events for Smith's Alternative
BEGIN:VEVENT
DTSTART;VALUE=DATE-TIME:
DTEND;VALUE=DATE-TIME:20240330T070000
DTSTAMP:20260421T185328
CREATED:20240228T120649
LAST-MODIFIED:20240228T123627
UID:admin@eventsity.com
SUMMARY:Andrea Kirwin
DESCRIPTION:Andrea Kirwin (previously of the Andi and George Band) is returning to Canberra...
URL:http://www.smithsalternative.com/events/andrea-kirwin-85181
LOCATION:
ATTACH;FMTTYPE=image/jpeg:http://www.smithsalternative.com/infomaxim/assets/images/66/85181/f__30394_kirw.jpg
END:VEVENT
END:VCALENDAR