BEGIN:VCALENDAR
VERSION:2.0
PRODID:-//Eventsity//NONSGML v1.0//EN
CALSCALE:GREGORIAN
METHOD:PUBLISH
X-WR-CALNAME:Smith's Alternative
X-ORIGINAL-URL:http://www.smithsalternative.com
X-WR-CALDESC:Events for Smith's Alternative
BEGIN:VEVENT
DTSTART;VALUE=DATE-TIME:
DTEND;VALUE=DATE-TIME:20241011T130000
DTSTAMP:20260421T164548
CREATED:20240219T145347
LAST-MODIFIED:20240607T201529
UID:admin@eventsity.com
SUMMARY:The Pigs
DESCRIPTION:The Pigs in concert at Smiths Alternative on their Epic 20-Year Anniversary...
URL:http://www.smithsalternative.com/events/the-pigs-85038
LOCATION:
ATTACH;FMTTYPE=image/jpeg:http://www.smithsalternative.com/infomaxim/assets/images/66/85038/f__30355_pigs.jpg
END:VEVENT
END:VCALENDAR