BEGIN:VCALENDAR
VERSION:2.0
PRODID:-//Eventsity//NONSGML v1.0//EN
CALSCALE:GREGORIAN
METHOD:PUBLISH
X-WR-CALNAME:Smith's Alternative
X-ORIGINAL-URL:http://www.smithsalternative.com
X-WR-CALDESC:Events for Smith's Alternative
BEGIN:VEVENT
DTSTART;VALUE=DATE-TIME:
DTEND;VALUE=DATE-TIME:20240111T110000
DTSTAMP:20260424T045039
CREATED:20231224T130428
LAST-MODIFIED:20231225T144720
UID:admin@eventsity.com
SUMMARY:MirrorMirror
DESCRIPTION:With Ally Hocking Howe and Frames
URL:http://www.smithsalternative.com/events/mirrormirror-84256
LOCATION:
ATTACH;FMTTYPE=image/jpeg:http://www.smithsalternative.com/infomaxim/assets/images/66/84256/f__30147_mirror.jpg
END:VEVENT
END:VCALENDAR