BEGIN:VCALENDAR
VERSION:2.0
PRODID:-//Eventsity//NONSGML v1.0//EN
CALSCALE:GREGORIAN
METHOD:PUBLISH
X-WR-CALNAME:Smith's Alternative
X-ORIGINAL-URL:http://www.smithsalternative.com
X-WR-CALDESC:Events for Smith's Alternative
BEGIN:VEVENT
DTSTART;VALUE=DATE-TIME:
DTEND;VALUE=DATE-TIME:20240123T110000
DTSTAMP:20260423T173213
CREATED:20231123T010841
LAST-MODIFIED:20231123T011644
UID:admin@eventsity.com
SUMMARY:Ryosuke Kiyasu
DESCRIPTION:
URL:http://www.smithsalternative.com/events/ryosuke-kiyasu-83995
LOCATION:
ATTACH;FMTTYPE=image/jpeg:http://www.smithsalternative.com/infomaxim/assets/images/66/83995/f__30101_ryosuke_kiyasu.jpg
END:VEVENT
END:VCALENDAR