BEGIN:VCALENDAR
VERSION:2.0
PRODID:-//Eventsity//NONSGML v1.0//EN
CALSCALE:GREGORIAN
METHOD:PUBLISH
X-WR-CALNAME:Smith's Alternative
X-ORIGINAL-URL:http://www.smithsalternative.com
X-WR-CALDESC:Events for Smith's Alternative
BEGIN:VEVENT
DTSTART;VALUE=DATE-TIME:
DTEND;VALUE=DATE-TIME:20231201T120000
DTSTAMP:20260421T020746
CREATED:20231121T223923
LAST-MODIFIED:20231122T062301
UID:admin@eventsity.com
SUMMARY:Smith's Bazaar
DESCRIPTION:Announcing Smith's Bazaar! For the month of December, Smith's will be holding...
URL:http://www.smithsalternative.com/events/smith-s-bazaar-83956
LOCATION:
ATTACH;FMTTYPE=image/jpeg:http://www.smithsalternative.com/infomaxim/assets/images/66/83956/f__30085_baz.jpg
END:VEVENT
END:VCALENDAR