BEGIN:VCALENDAR
VERSION:2.0
PRODID:-//Eventsity//NONSGML v1.0//EN
CALSCALE:GREGORIAN
METHOD:PUBLISH
X-WR-CALNAME:Smith's Alternative
X-ORIGINAL-URL:http://www.smithsalternative.com
X-WR-CALDESC:Events for Smith's Alternative
BEGIN:VEVENT
DTSTART;VALUE=DATE-TIME:
DTEND;VALUE=DATE-TIME:20230923T080000
DTSTAMP:20260421T183921
CREATED:20230805T210157
LAST-MODIFIED:20230805T212216
UID:admin@eventsity.com
SUMMARY:Zines + Bands 2
DESCRIPTION:Following the success of Zines + Bands, the Sticky Institute crew returns...
URL:http://www.smithsalternative.com/events/zines-bands-2-82479
LOCATION:
ATTACH;FMTTYPE=image/jpeg:http://www.smithsalternative.com/infomaxim/assets/images/66/82479/f__29681_zin2.jpg
END:VEVENT
END:VCALENDAR