BEGIN:VCALENDAR
VERSION:2.0
PRODID:-//Eventsity//NONSGML v1.0//EN
CALSCALE:GREGORIAN
METHOD:PUBLISH
X-WR-CALNAME:Smith's Alternative
X-ORIGINAL-URL:http://www.smithsalternative.com
X-WR-CALDESC:Events for Smith's Alternative
BEGIN:VEVENT
DTSTART;VALUE=DATE-TIME:
DTEND;VALUE=DATE-TIME:20230817T120000
DTSTAMP:20260424T223833
CREATED:20230610T175510
LAST-MODIFIED:20260318T212137
UID:admin@eventsity.com
SUMMARY:Jarryd Goundrey
DESCRIPTION:Jarryd Goundrey is Australia's Least Decorated Soldier.
URL:http://www.smithsalternative.com/events/jarryd-goundrey-81676
LOCATION:
ATTACH;FMTTYPE=image/jpeg:http://www.smithsalternative.com/infomaxim/assets/images/66/81676/f__29484_jarr.jpg
END:VEVENT
END:VCALENDAR