BEGIN:VCALENDAR
VERSION:2.0
PRODID:-//Eventsity//NONSGML v1.0//EN
CALSCALE:GREGORIAN
METHOD:PUBLISH
X-WR-CALNAME:Smith's Alternative
X-ORIGINAL-URL:http://www.smithsalternative.com
X-WR-CALDESC:Events for Smith's Alternative
BEGIN:VEVENT
DTSTART;VALUE=DATE-TIME:
DTEND;VALUE=DATE-TIME:20230627T110000
DTSTAMP:20260422T133406
CREATED:20230604T192050
LAST-MODIFIED:20230604T205523
UID:admin@eventsity.com
SUMMARY:Harry Tinney
DESCRIPTION:Harry hits the Hume to play in his home town with buddies Nick and Brend...
URL:http://www.smithsalternative.com/events/harry-tinney-81617
LOCATION:
ATTACH;FMTTYPE=image/jpeg:http://www.smithsalternative.com/infomaxim/assets/images/66/81617/f__29467_harryr.jpg
END:VEVENT
END:VCALENDAR