BEGIN:VCALENDAR
VERSION:2.0
PRODID:-//Eventsity//NONSGML v1.0//EN
CALSCALE:GREGORIAN
METHOD:PUBLISH
X-WR-CALNAME:Smith's Alternative
X-ORIGINAL-URL:http://www.smithsalternative.com
X-WR-CALDESC:Events for Smith's Alternative
BEGIN:VEVENT
DTSTART;VALUE=DATE-TIME:
DTEND;VALUE=DATE-TIME:20231103T104000
DTSTAMP:20260425T040406
CREATED:20230519T233041
LAST-MODIFIED:20230831T125340
UID:admin@eventsity.com
SUMMARY:Kristin Hersh - SOLD OUT
DESCRIPTION:Troubadour and Smith's present the inimitable Kristin Hersh, a musical genius,...
URL:http://www.smithsalternative.com/events/kristin-hersh-81409
LOCATION:
ATTACH;FMTTYPE=image/jpeg:http://www.smithsalternative.com/infomaxim/assets/images/66/81409/f__29414_kh.jpg
END:VEVENT
END:VCALENDAR