BEGIN:VCALENDAR
VERSION:2.0
PRODID:-//Eventsity//NONSGML v1.0//EN
CALSCALE:GREGORIAN
METHOD:PUBLISH
X-WR-CALNAME:Smith's Alternative
X-ORIGINAL-URL:http://www.smithsalternative.com
X-WR-CALDESC:Events for Smith's Alternative
BEGIN:VEVENT
DTSTART;VALUE=DATE-TIME:
DTEND;VALUE=DATE-TIME:20221126T070000
DTSTAMP:20260421T184050
CREATED:20221111T220918
LAST-MODIFIED:20221125T220338
UID:admin@eventsity.com
SUMMARY:COLE'S OPERA SALON
DESCRIPTION:Be transported in Cole's Opera Salon to another world where beautiful music...
URL:http://www.smithsalternative.com/events/cole-s-opera-salon-79104
LOCATION:
ATTACH;FMTTYPE=image/jpeg:http://www.smithsalternative.com/infomaxim/assets/images/66/79104/f__28885_cole.jpg
END:VEVENT
END:VCALENDAR