BEGIN:VCALENDAR
VERSION:2.0
PRODID:-//Eventsity//NONSGML v1.0//EN
CALSCALE:GREGORIAN
METHOD:PUBLISH
X-WR-CALNAME:Smith's Alternative
X-ORIGINAL-URL:http://www.smithsalternative.com
X-WR-CALDESC:Events for Smith's Alternative
BEGIN:VEVENT
DTSTART;VALUE=DATE-TIME:
DTEND;VALUE=DATE-TIME:20220706T100000
DTSTAMP:20260421T183917
CREATED:20220624T141342
LAST-MODIFIED:20220624T181215
UID:admin@eventsity.com
SUMMARY:Geoff's Jazz at Smith's
DESCRIPTION:Murray's first featured gig on tenor sax, with Wilbur Whitta on piano, Brendan...
URL:http://www.smithsalternative.com/events/geoff-s-jazz-at-smith-s-77228
LOCATION:
ATTACH;FMTTYPE=image/jpeg:http://www.smithsalternative.com/infomaxim/assets/images/66/77228/f__28479_murray.jpg
END:VEVENT
END:VCALENDAR