BEGIN:VCALENDAR
VERSION:2.0
PRODID:-//Eventsity//NONSGML v1.0//EN
CALSCALE:GREGORIAN
METHOD:PUBLISH
X-WR-CALNAME:Smith's Alternative
X-ORIGINAL-URL:http://www.smithsalternative.com
X-WR-CALDESC:Events for Smith's Alternative
BEGIN:VEVENT
DTSTART;VALUE=DATE-TIME:
DTEND;VALUE=DATE-TIME:20220929T110000
DTSTAMP:20260426T000251
CREATED:20220620T183928
LAST-MODIFIED:20230129T160406
UID:admin@eventsity.com
SUMMARY:Charm of Finches
DESCRIPTION:Melbourne sister duo Charm of Finches (aka Mabel and Ivy Windred-Wornes)...
URL:http://www.smithsalternative.com/events/charm-of-finches-77200
LOCATION:
ATTACH;FMTTYPE=image/jpeg:http://www.smithsalternative.com/infomaxim/assets/images/66/77200/f__28471_0929_cof_feat.jpg
END:VEVENT
END:VCALENDAR