BEGIN:VCALENDAR
VERSION:2.0
PRODID:-//Eventsity//NONSGML v1.0//EN
CALSCALE:GREGORIAN
METHOD:PUBLISH
X-WR-CALNAME:Smith's Alternative
X-ORIGINAL-URL:http://www.smithsalternative.com
X-WR-CALDESC:Events for Smith's Alternative
BEGIN:VEVENT
DTSTART;VALUE=DATE-TIME:
DTEND;VALUE=DATE-TIME:20220626T070000
DTSTAMP:20260421T184944
CREATED:20220522T085419
LAST-MODIFIED:20220522T091701
UID:admin@eventsity.com
SUMMARY:Musical Singalong
DESCRIPTION:Like karaoke, but (loosely) confined to songs from musicals. We'll be singing...
URL:http://www.smithsalternative.com/events/musical-singalong-76897
LOCATION:
ATTACH;FMTTYPE=image/jpeg:http://www.smithsalternative.com/infomaxim/assets/images/66/76897/f__28410_singalong01.jpg
END:VEVENT
END:VCALENDAR