BEGIN:VCALENDAR
VERSION:2.0
PRODID:-//Eventsity//NONSGML v1.0//EN
CALSCALE:GREGORIAN
METHOD:PUBLISH
X-WR-CALNAME:Smith's Alternative
X-ORIGINAL-URL:http://www.smithsalternative.com
X-WR-CALDESC:Events for Smith's Alternative
BEGIN:VEVENT
DTSTART;VALUE=DATE-TIME:
DTEND;VALUE=DATE-TIME:20220413T120000
DTSTAMP:20260422T012340
CREATED:20220228T184925
LAST-MODIFIED:20220327T175529
UID:admin@eventsity.com
SUMMARY:Smith's Varietal #184
DESCRIPTION:Another Wednesday night, another night of exploring the unexpected further...
URL:http://www.smithsalternative.com/events/smith-s-varietal-184-75703
LOCATION:
ATTACH;FMTTYPE=image/jpeg:http://www.smithsalternative.com/infomaxim/assets/images/66/75703/f__28169_var184.jpg
END:VEVENT
END:VCALENDAR