BEGIN:VCALENDAR
VERSION:2.0
PRODID:-//Eventsity//NONSGML v1.0//EN
CALSCALE:GREGORIAN
METHOD:PUBLISH
X-WR-CALNAME:Smith's Alternative
X-ORIGINAL-URL:http://www.smithsalternative.com
X-WR-CALDESC:Events for Smith's Alternative
BEGIN:VEVENT
DTSTART;VALUE=DATE-TIME:
DTEND;VALUE=DATE-TIME:20220430T110000
DTSTAMP:20260422T084528
CREATED:20220224T172255
LAST-MODIFIED:20220427T193231
UID:admin@eventsity.com
SUMMARY:Daniel Muggleton
DESCRIPTION:One of Australia's most exciting stand-up comedians is in Canberra with a...
URL:http://www.smithsalternative.com/events/daniel-muggleton-75623
LOCATION:
ATTACH;FMTTYPE=image/jpeg:http://www.smithsalternative.com/infomaxim/assets/images/66/75623/f__28151_dmug.jpg
END:VEVENT
END:VCALENDAR