BEGIN:VCALENDAR
VERSION:2.0
PRODID:-//Eventsity//NONSGML v1.0//EN
CALSCALE:GREGORIAN
METHOD:PUBLISH
X-WR-CALNAME:Smith's Alternative
X-ORIGINAL-URL:http://www.smithsalternative.com
X-WR-CALDESC:Events for Smith's Alternative
BEGIN:VEVENT
DTSTART;VALUE=DATE-TIME:
DTEND;VALUE=DATE-TIME:20211216T100000
DTSTAMP:20260423T082901
CREATED:20211122T170730
LAST-MODIFIED:20211122T173937
UID:admin@eventsity.com
SUMMARY:Fundamentals
DESCRIPTION:It's beginning to feel a lot like Christmas.
URL:http://www.smithsalternative.com/events/fundamentals-74500
LOCATION:
ATTACH;FMTTYPE=image/jpeg:http://www.smithsalternative.com/infomaxim/assets/images/66/74500/f__27997_untitled-1.jpg
END:VEVENT
END:VCALENDAR