BEGIN:VCALENDAR
VERSION:2.0
PRODID:-//Eventsity//NONSGML v1.0//EN
CALSCALE:GREGORIAN
METHOD:PUBLISH
X-WR-CALNAME:Smith's Alternative
X-ORIGINAL-URL:http://www.smithsalternative.com
X-WR-CALDESC:Events for Smith's Alternative
BEGIN:VEVENT
DTSTART;VALUE=DATE-TIME:
DTEND;VALUE=DATE-TIME:20211210T122500
DTSTAMP:20260423T042517
CREATED:20211029T145131
LAST-MODIFIED:20211029T150222
UID:admin@eventsity.com
SUMMARY:One Night Only
DESCRIPTION:Impro ACT student showcase.
URL:http://www.smithsalternative.com/events/one-night-only-74137
LOCATION:
ATTACH;FMTTYPE=image/jpeg:http://www.smithsalternative.com/infomaxim/assets/images/66/74137/f__27070_nickb.jpg
END:VEVENT
END:VCALENDAR