BEGIN:VCALENDAR
VERSION:2.0
PRODID:-//Eventsity//NONSGML v1.0//EN
CALSCALE:GREGORIAN
METHOD:PUBLISH
X-WR-CALNAME:Smith's Alternative
X-ORIGINAL-URL:http://www.smithsalternative.com
X-WR-CALDESC:Events for Smith's Alternative
BEGIN:VEVENT
DTSTART;VALUE=DATE-TIME:
DTEND;VALUE=DATE-TIME:20210724T140000
DTSTAMP:20260423T173347
CREATED:20210711T183551
LAST-MODIFIED:20210712T155508
UID:admin@eventsity.com
SUMMARY:Drag Cabaret
DESCRIPTION:When the mainstream gets lamestream - go ALTERNATIVE.
URL:http://www.smithsalternative.com/events/drag-cabaret-73330
LOCATION:
ATTACH;FMTTYPE=image/jpeg:http://www.smithsalternative.com/infomaxim/assets/images/66/73330/f__27812_0724_drag_feature.jpg
END:VEVENT
END:VCALENDAR