BEGIN:VCALENDAR
VERSION:2.0
PRODID:-//Eventsity//NONSGML v1.0//EN
CALSCALE:GREGORIAN
METHOD:PUBLISH
X-WR-CALNAME:Smith's Alternative
X-ORIGINAL-URL:http://www.smithsalternative.com
X-WR-CALDESC:Events for Smith's Alternative
BEGIN:VEVENT
DTSTART;VALUE=DATE-TIME:
DTEND;VALUE=DATE-TIME:20210227T080000
DTSTAMP:20260421T184003
CREATED:20210212T175208
LAST-MODIFIED:20210212T181228
UID:admin@eventsity.com
SUMMARY:Snake Oil Preachers
DESCRIPTION:Dubbed "country punk for city slackers", Snake Oil Preachers rock the cannon...
URL:http://www.smithsalternative.com/events/snake-oil-preachers-70993
LOCATION:
ATTACH;FMTTYPE=image/jpeg:http://www.smithsalternative.com/infomaxim/assets/images/66/70993/f__18599_snake_oils.jpg
END:VEVENT
END:VCALENDAR