BEGIN:VCALENDAR
VERSION:2.0
PRODID:-//Eventsity//NONSGML v1.0//EN
CALSCALE:GREGORIAN
METHOD:PUBLISH
X-WR-CALNAME:Smith's Alternative
X-ORIGINAL-URL:http://www.smithsalternative.com
X-WR-CALDESC:Events for Smith's Alternative
BEGIN:VEVENT
DTSTART;VALUE=DATE-TIME:
DTEND;VALUE=DATE-TIME:20201022T120000
DTSTAMP:20260421T183006
CREATED:20200924T212427
LAST-MODIFIED:20201020T203909
UID:admin@eventsity.com
SUMMARY:Steve Richards Quartet
DESCRIPTION:Back by popular demand (mostly from the band themselves) local favourites...
URL:http://www.smithsalternative.com/events/steven-richards-quartet-69849
LOCATION:
ATTACH;FMTTYPE=image/jpeg:http://www.smithsalternative.com/infomaxim/assets/images/66/69849/f__27129_stever.jpg
END:VEVENT
END:VCALENDAR