BEGIN:VCALENDAR
VERSION:2.0
PRODID:-//Eventsity//NONSGML v1.0//EN
CALSCALE:GREGORIAN
METHOD:PUBLISH
X-WR-CALNAME:Smith's Alternative
X-ORIGINAL-URL:http://www.smithsalternative.com
X-WR-CALDESC:Events for Smith's Alternative
BEGIN:VEVENT
DTSTART;VALUE=DATE-TIME:
DTEND;VALUE=DATE-TIME:20200917T113000
DTSTAMP:20260420T114038
CREATED:20200828T164745
LAST-MODIFIED:20200908T204951
UID:admin@eventsity.com
SUMMARY:FUNdamentals at Smith's
DESCRIPTION:Following two sell out shows in August, FUNdamentals is back on the 17th...
URL:http://www.smithsalternative.com/events/fundamentals-at-smith-s-69584
LOCATION:
ATTACH;FMTTYPE=image/jpeg:http://www.smithsalternative.com/infomaxim/assets/images/66/69584/f__27078_fun2.jpg
END:VEVENT
END:VCALENDAR