BEGIN:VCALENDAR
VERSION:2.0
PRODID:-//Eventsity//NONSGML v1.0//EN
CALSCALE:GREGORIAN
METHOD:PUBLISH
X-WR-CALNAME:Smith's Alternative
X-ORIGINAL-URL:http://www.smithsalternative.com
X-WR-CALDESC:Events for Smith's Alternative
BEGIN:VEVENT
DTSTART;VALUE=DATE-TIME:
DTEND;VALUE=DATE-TIME:20200227T110000
DTSTAMP:20260422T054712
CREATED:20200219T231838
LAST-MODIFIED:20200219T234031
UID:admin@eventsity.com
SUMMARY:Kim Churchill
DESCRIPTION:Kim Churchill is proud to present a new tour - The Bright Night Sessions...
URL:http://www.smithsalternative.com/events/kim-churchill-67477
LOCATION:
ATTACH;FMTTYPE=image/jpeg:http://www.smithsalternative.com/infomaxim/assets/images/66/67477/f__24594_kimc.jpg
END:VEVENT
END:VCALENDAR