BEGIN:VCALENDAR
VERSION:2.0
PRODID:-//Eventsity//NONSGML v1.0//EN
CALSCALE:GREGORIAN
METHOD:PUBLISH
X-WR-CALNAME:Smith's Alternative
X-ORIGINAL-URL:http://www.smithsalternative.com
X-WR-CALDESC:Events for Smith's Alternative
BEGIN:VEVENT
DTSTART;VALUE=DATE-TIME:
DTEND;VALUE=DATE-TIME:20200228T133000
DTSTAMP:20260422T023052
CREATED:20191217T042500
LAST-MODIFIED:20200214T201653
UID:admin@eventsity.com
SUMMARY:Kim Churchill - SOLD OUT
DESCRIPTION:Kim Churchill is proud to present a new tour - The Bright Night Sessions...
URL:http://www.smithsalternative.com/events/kim-churchill-64760
LOCATION:
ATTACH;FMTTYPE=image/jpeg:http://www.smithsalternative.com/infomaxim/assets/images/66/64760/f__24594_kimc.jpg
END:VEVENT
END:VCALENDAR