BEGIN:VCALENDAR
VERSION:2.0
PRODID:-//Eventsity//NONSGML v1.0//EN
CALSCALE:GREGORIAN
METHOD:PUBLISH
X-WR-CALNAME:Smith's Alternative
X-ORIGINAL-URL:http://www.smithsalternative.com
X-WR-CALDESC:Events for Smith's Alternative
BEGIN:VEVENT
DTSTART;VALUE=DATE-TIME:
DTEND;VALUE=DATE-TIME:20191025T110000
DTSTAMP:20260419T232956
CREATED:20190817T134139
LAST-MODIFIED:20191024T211618
UID:admin@eventsity.com
SUMMARY:Rufino and the Coconuts
DESCRIPTION:A tropical musical explosion is set to go off Friday October 25 as Rufino...
URL:http://www.smithsalternative.com/events/rufino-and-the-coconuts-63051
LOCATION:
ATTACH;FMTTYPE=image/jpeg:http://www.smithsalternative.com/infomaxim/assets/images/66/63051/f__24128_rufi.jpg
END:VEVENT
END:VCALENDAR