BEGIN:VCALENDAR
VERSION:2.0
PRODID:-//Eventsity//NONSGML v1.0//EN
CALSCALE:GREGORIAN
METHOD:PUBLISH
X-WR-CALNAME:Smith's Alternative
X-ORIGINAL-URL:http://www.smithsalternative.com
X-WR-CALDESC:Events for Smith's Alternative
BEGIN:VEVENT
DTSTART;VALUE=DATE-TIME:
DTEND;VALUE=DATE-TIME:20190811T120000
DTSTAMP:20260421T202740
CREATED:20190727T060238
LAST-MODIFIED:20190727T062357
UID:admin@eventsity.com
SUMMARY:Mr Michael's Musical Singalong Hour
DESCRIPTION:Come and sing the funnest tunes from shows and be the chorus to our various...
URL:http://www.smithsalternative.com/events/mr-michael-s-musical-singalong-hour-62712
LOCATION:
ATTACH;FMTTYPE=image/jpeg:http://www.smithsalternative.com/infomaxim/assets/images/66/62712/f__24042_mr_michael_s_singalong.jpg
END:VEVENT
END:VCALENDAR