BEGIN:VCALENDAR
VERSION:2.0
PRODID:-//Eventsity//NONSGML v1.0//EN
CALSCALE:GREGORIAN
METHOD:PUBLISH
X-WR-CALNAME:Smith's Alternative
X-ORIGINAL-URL:http://www.smithsalternative.com
X-WR-CALDESC:Events for Smith's Alternative
BEGIN:VEVENT
DTSTART;VALUE=DATE-TIME:
DTEND;VALUE=DATE-TIME:20190725T110000
DTSTAMP:20260420T043403
CREATED:20190628T165528
LAST-MODIFIED:20190628T192428
UID:admin@eventsity.com
SUMMARY:N.R Trio
DESCRIPTION:N.R. Trio explores the concept of spontaneous re-harmonisation, expanding...
URL:http://www.smithsalternative.com/events/n.r-trio-60297
LOCATION:
ATTACH;FMTTYPE=image/jpeg:http://www.smithsalternative.com/infomaxim/assets/images/66/60297/f__21931_nr_trio.jpg
END:VEVENT
END:VCALENDAR