BEGIN:VCALENDAR
VERSION:2.0
PRODID:-//Eventsity//NONSGML v1.0//EN
CALSCALE:GREGORIAN
METHOD:PUBLISH
X-WR-CALNAME:Smith's Alternative
X-ORIGINAL-URL:http://www.smithsalternative.com
X-WR-CALDESC:Events for Smith's Alternative
BEGIN:VEVENT
DTSTART;VALUE=DATE-TIME:
DTEND;VALUE=DATE-TIME:20190701T133000
DTSTAMP:20260426T111407
CREATED:20190623T161251
LAST-MODIFIED:20190623T161943
UID:admin@eventsity.com
SUMMARY:Lulu and the Tantrums
DESCRIPTION:Lulu and the Tantrums, Epic Side Boob and Sam King
URL:http://www.smithsalternative.com/events/lulu-and-the-tantrums-60194
LOCATION:
ATTACH;FMTTYPE=image/jpeg:http://www.smithsalternative.com/infomaxim/assets/images/66/60194/f__21899_lulu.jpg
END:VEVENT
END:VCALENDAR