BEGIN:VCALENDAR
VERSION:2.0
PRODID:-//Eventsity//NONSGML v1.0//EN
CALSCALE:GREGORIAN
METHOD:PUBLISH
X-WR-CALNAME:Smith's Alternative
X-ORIGINAL-URL:http://www.smithsalternative.com
X-WR-CALDESC:Events for Smith's Alternative
BEGIN:VEVENT
DTSTART;VALUE=DATE-TIME:
DTEND;VALUE=DATE-TIME:20190523T110000
DTSTAMP:20260420T043919
CREATED:20190424T193857
LAST-MODIFIED:20190426T200410
UID:admin@eventsity.com
SUMMARY:Vendulka
DESCRIPTION:After months of work, come hear Vendulka's new single 'Good Words' along...
URL:http://www.smithsalternative.com/events/vendulka-58441
LOCATION:
ATTACH;FMTTYPE=image/jpeg:http://www.smithsalternative.com/infomaxim/assets/images/66/58441/f__20683_vendulka.jpg
END:VEVENT
END:VCALENDAR