BEGIN:VCALENDAR
VERSION:2.0
PRODID:-//Eventsity//NONSGML v1.0//EN
CALSCALE:GREGORIAN
METHOD:PUBLISH
X-WR-CALNAME:Smith's Alternative
X-ORIGINAL-URL:http://www.smithsalternative.com
X-WR-CALDESC:Events for Smith's Alternative
BEGIN:VEVENT
DTSTART;VALUE=DATE-TIME:
DTEND;VALUE=DATE-TIME:20190301T110000
DTSTAMP:20260426T035659
CREATED:20190217T163333
LAST-MODIFIED:20190217T165949
UID:admin@eventsity.com
SUMMARY:Switched On: Beginnings and Endings
DESCRIPTION:Canberra's premiere improvised theatre troupe gives you a fresh take on comedy...
URL:http://www.smithsalternative.com/events/switched-on-beginnings-and-endings-55893
LOCATION:
ATTACH;FMTTYPE=image/jpeg:http://www.smithsalternative.com/infomaxim/assets/images/66/55893/f__20343_lighbulb_beginnings.jpg
END:VEVENT
END:VCALENDAR