BEGIN:VCALENDAR
VERSION:2.0
PRODID:-//Eventsity//NONSGML v1.0//EN
CALSCALE:GREGORIAN
METHOD:PUBLISH
X-WR-CALNAME:Smith's Alternative
X-ORIGINAL-URL:http://www.smithsalternative.com
X-WR-CALDESC:Events for Smith's Alternative
BEGIN:VEVENT
DTSTART;VALUE=DATE-TIME:
DTEND;VALUE=DATE-TIME:20190309T080000
DTSTAMP:20260421T200154
CREATED:20190205T220258
LAST-MODIFIED:20190210T175810
UID:admin@eventsity.com
SUMMARY:Muddy Wolfe EP Launch
DESCRIPTION:Muddy Wolfe launch their debut EP 'Volume I' with special guests The Chesterfield...
URL:http://www.smithsalternative.com/events/muddy-wolfe-ep-launch-55687
LOCATION:
ATTACH;FMTTYPE=image/jpeg:http://www.smithsalternative.com/infomaxim/assets/images/66/55687/f__20317_49789440_2266194770295621_3853826738261852160_o__1_.jpeg
END:VEVENT
END:VCALENDAR