BEGIN:VCALENDAR
VERSION:2.0
PRODID:-//Eventsity//NONSGML v1.0//EN
CALSCALE:GREGORIAN
METHOD:PUBLISH
X-WR-CALNAME:Smith's Alternative
X-ORIGINAL-URL:http://www.smithsalternative.com
X-WR-CALDESC:Events for Smith's Alternative
BEGIN:VEVENT
DTSTART;VALUE=DATE-TIME:
DTEND;VALUE=DATE-TIME:20151122T100000
DTSTAMP:20260425T024502
CREATED:20151118T132033
LAST-MODIFIED:20151118T132033
UID:admin@eventsity.com
SUMMARY:Mick Daley
DESCRIPTION:with Adam Young
URL:http://www.smithsalternative.com/events/mick-daley-4411
LOCATION:
ATTACH;FMTTYPE=image/jpeg:http://www.smithsalternative.com/infomaxim/assets/images/66/4411/f__1890_mick.jpg
END:VEVENT
END:VCALENDAR