BEGIN:VCALENDAR
VERSION:2.0
PRODID:-//Eventsity//NONSGML v1.0//EN
CALSCALE:GREGORIAN
METHOD:PUBLISH
X-WR-CALNAME:Smith's Alternative
X-ORIGINAL-URL:http://www.smithsalternative.com
X-WR-CALDESC:Events for Smith's Alternative
BEGIN:VEVENT
DTSTART;VALUE=DATE-TIME:
DTEND;VALUE=DATE-TIME:20171221T133000
DTSTAMP:20260426T103241
CREATED:20171116T211946
LAST-MODIFIED:20171116T211946
UID:admin@eventsity.com
SUMMARY:The Parlour Social
DESCRIPTION:CLASSICAL MEETS RAGTIMEIn a most unwelcome development, 'The Parlour...
URL:http://www.smithsalternative.com/events/the-parlour-social-37416
LOCATION:
ATTACH;FMTTYPE=image/jpeg:http://www.smithsalternative.com/infomaxim/assets/images/66/37416/f__10127_robbie.jpg
END:VEVENT
END:VCALENDAR