BEGIN:VCALENDAR
VERSION:2.0
PRODID:-//Eventsity//NONSGML v1.0//EN
CALSCALE:GREGORIAN
METHOD:PUBLISH
X-WR-CALNAME:Smith's Alternative
X-ORIGINAL-URL:http://www.smithsalternative.com
X-WR-CALDESC:Events for Smith's Alternative
BEGIN:VEVENT
DTSTART;VALUE=DATE-TIME:
DTEND;VALUE=DATE-TIME:20161008T050000
DTSTAMP:20260422T111004
CREATED:20160831T145911
LAST-MODIFIED:20160831T145911
UID:admin@eventsity.com
SUMMARY:Read Like a Feminist Book Club: The Hate Race
DESCRIPTION:
URL:http://www.smithsalternative.com/events/read-like-a-feminist-book-club-the-hate-race-22341
LOCATION:
ATTACH;FMTTYPE=image/jpeg:http://www.smithsalternative.com/infomaxim/assets/images/66/22341/f__3161_oct16feministbookclub.jpg
END:VEVENT
END:VCALENDAR